BEGIN:VCALENDAR
VERSION:2.0
PRODID:SchoolNow
CALSCALE:GREGORIAN
BEGIN:VEVENT
UID:097c7c1e-36cb-11f0-9b2a-0a58a9feac02
DTSTAMP:20260425T165014Z
SUMMARY:Bite of Reality @ LLHS
URL;VALUE=URI:https://www.konoctiusd.org/programs-services/student-programs
 /calendar/8178933/bite-of-reality-llhs
DTSTART;VALUE=DATE:20260519
DTEND;VALUE=DATE:20260520
END:VEVENT
END:VCALENDAR
